BEGIN:VCALENDAR
VERSION:2.0
PRODID:-//Soy ecoturista - ECPv6.2.8.1//NONSGML v1.0//EN
CALSCALE:GREGORIAN
METHOD:PUBLISH
X-ORIGINAL-URL:https://www.soyecoturista.com/asociacion
X-WR-CALDESC:Events for Soy ecoturista
REFRESH-INTERVAL;VALUE=DURATION:PT1H
X-Robots-Tag:noindex
X-PUBLISHED-TTL:PT1H
BEGIN:VTIMEZONE
TZID:Europe/Madrid
BEGIN:DAYLIGHT
TZOFFSETFROM:+0100
TZOFFSETTO:+0200
TZNAME:CEST
DTSTART:20260329T010000
END:DAYLIGHT
BEGIN:STANDARD
TZOFFSETFROM:+0200
TZOFFSETTO:+0100
TZNAME:CET
DTSTART:20261025T010000
END:STANDARD
END:VTIMEZONE
BEGIN:VEVENT
DTSTART;TZID=Europe/Madrid:20260507T160000
DTEND;TZID=Europe/Madrid:20260507T170000
DTSTAMP:20260423T124652
CREATED:20260227T114036Z
LAST-MODIFIED:20260303T162051Z
UID:10001837-1778169600-1778173200@www.soyecoturista.com
SUMMARY:Hablemos de Ecoturismo #26 - Urdaibai | El ecoturismo como motor social y económico
DESCRIPTION:Fecha: Se estrenara el 07/05/2026 a las 16 horas en vivo (15h en Canarias) \n\nEn línea – Canal de YouTube Soy Ecoturista\n\nEn este vigésimo quinto episodio de Hablemos de Ecoturismo en Urdaibai\, titulado El ecoturismo como motor social y económico\, conocemos la colaboración entre empresas de la Reserva de la Biosfera de Urdaibai\, con los mismos compromisos y valores y la importancia de una plataforma como Soy Ecoturista para que esa simbiosis sea posible. \n\nEdna Bermejo. Bodegas Itsasmendi.\nBego Mentxaka. Casa Rural Arrizurieta.\n\n \n 
URL:https://www.soyecoturista.com/asociacion/event/hablemos-de-ecoturismo-26/
LOCATION:Canal de YouTube de SoyEcoturista\, Canal de YouTube de SoyEcoturista\, .
CATEGORIES:Ecoturistas y profesionales
ATTACH;FMTTYPE=image/png:https://www.soyecoturista.com/asociacion/wp-content/uploads/2026/02/26.png
END:VEVENT
BEGIN:VEVENT
DTSTART;TZID=Europe/Madrid:20260509T070000
DTEND;TZID=Europe/Madrid:20260510T220000
DTSTAMP:20260423T124652
CREATED:20260414T103736Z
LAST-MODIFIED:20260414T103736Z
UID:10001850-1778310000-1778450400@www.soyecoturista.com
SUMMARY:VII Festival de Ecoturismo en Peligro de Extinción | Fuentes del Narcea
DESCRIPTION:Fechas:  \n\nFin de semana 1: Sábado 9 y domingo 10 de mayo · 11:00 a 21:00 h\nFin de semana 2: Sábado 16 y domingo 17 de mayo · 08:00 a 19:00 h\nFin de semana 3: Sábado 23 de mayo · 11:00 a 20:00 h\n\nUbicación: \n\n\nDiversos enclaves de Cangas del Narcea y Degaña – Asturias (Parque Natural de Fuentes del Narcea\, Ibias y Degaña · Reserva de la Biosfera de Muniellos) \nCon sede principal en el Centro de Interpretación de Muniellos (Obacho) \n\n\nEl 7º Festival de Ecoturismo en Peligro de Extinción vuelve a Fuentes del Narcea para celebrar por todo lo alto el 25º aniversario de Muniellos como Reserva de la Biosfera\, uno de los espacios naturales y rurales mejor conservados y más singulares de Asturias. Bajo el lema Ye de Casa\, el festival reivindica el ecoturismo auténtico\, el de mancharse las botas de barro\, recuperar los sabores de la infancia y adentrarse en un territorio de osos\, abejas\, lobos\, artesanos y bosques infinitos. \nA lo largo de tres fines de semana de mayo\, el programa despliega más de 25 experiencias repartidas por toda la comarca: talleres de apicultura en cortines tradicionales\, rutas de avistamiento del oso pardo\, paseos por bosques mágicos\, visitas a bodegas del Vino de Cangas\, talleres de elaboración de pan y morcillas\, rutas por pueblos olvidados en 4×4\, cuentos y cantares\, artesanía y mucho más. Todo ello con el Mercao Natural y Artesano como eje central\, gratuito y abierto a todos. \nEl festival arranca el 9 y 10 de mayo con el acto oficial de celebración del aniversario de Muniellos y una programación cargada de naturaleza\, gastronomía y cultura popular. \nEl 16 y 17 de mayo el foco se desplaza hacia la fauna\, los bosques y los oficios tradicionales. \nEl 23 de mayo cierra el festival con una nueva edición del Mercao Natural y el mítico Concilio de las Bruxas de Muniellos. Actividades para todos los públicos\, con opciones gratuitas y de pago\, pensadas tanto para residentes como para visitantes con alma ecoturista. \nMás información\n\n\nReservas: https://www.eventbrite.es \n\n\nWeb \n\nPrograma
URL:https://www.soyecoturista.com/asociacion/event/vii-festival-ecoturismo/2026-05-09/
LOCATION:Fuentes del Narcea (Cangas del Narcea\, Degaña e Íbias)\, Fuentes del Narcea\, España
CATEGORIES:Ecoturistas
ATTACH;FMTTYPE=image/png:https://www.soyecoturista.com/asociacion/wp-content/uploads/2026/04/7o-Festival-de-Ecoturismo-en-Peligro-de-Extincion.png
END:VEVENT
BEGIN:VEVENT
DTSTART;TZID=Europe/Madrid:20260516T070000
DTEND;TZID=Europe/Madrid:20260517T220000
DTSTAMP:20260423T124652
CREATED:20260414T103736Z
LAST-MODIFIED:20260414T103736Z
UID:10001851-1778914800-1779055200@www.soyecoturista.com
SUMMARY:VII Festival de Ecoturismo en Peligro de Extinción | Fuentes del Narcea
DESCRIPTION:Fechas:  \n\nFin de semana 1: Sábado 9 y domingo 10 de mayo · 11:00 a 21:00 h\nFin de semana 2: Sábado 16 y domingo 17 de mayo · 08:00 a 19:00 h\nFin de semana 3: Sábado 23 de mayo · 11:00 a 20:00 h\n\nUbicación: \n\n\nDiversos enclaves de Cangas del Narcea y Degaña – Asturias (Parque Natural de Fuentes del Narcea\, Ibias y Degaña · Reserva de la Biosfera de Muniellos) \nCon sede principal en el Centro de Interpretación de Muniellos (Obacho) \n\n\nEl 7º Festival de Ecoturismo en Peligro de Extinción vuelve a Fuentes del Narcea para celebrar por todo lo alto el 25º aniversario de Muniellos como Reserva de la Biosfera\, uno de los espacios naturales y rurales mejor conservados y más singulares de Asturias. Bajo el lema Ye de Casa\, el festival reivindica el ecoturismo auténtico\, el de mancharse las botas de barro\, recuperar los sabores de la infancia y adentrarse en un territorio de osos\, abejas\, lobos\, artesanos y bosques infinitos. \nA lo largo de tres fines de semana de mayo\, el programa despliega más de 25 experiencias repartidas por toda la comarca: talleres de apicultura en cortines tradicionales\, rutas de avistamiento del oso pardo\, paseos por bosques mágicos\, visitas a bodegas del Vino de Cangas\, talleres de elaboración de pan y morcillas\, rutas por pueblos olvidados en 4×4\, cuentos y cantares\, artesanía y mucho más. Todo ello con el Mercao Natural y Artesano como eje central\, gratuito y abierto a todos. \nEl festival arranca el 9 y 10 de mayo con el acto oficial de celebración del aniversario de Muniellos y una programación cargada de naturaleza\, gastronomía y cultura popular. \nEl 16 y 17 de mayo el foco se desplaza hacia la fauna\, los bosques y los oficios tradicionales. \nEl 23 de mayo cierra el festival con una nueva edición del Mercao Natural y el mítico Concilio de las Bruxas de Muniellos. Actividades para todos los públicos\, con opciones gratuitas y de pago\, pensadas tanto para residentes como para visitantes con alma ecoturista. \nMás información\n\n\nReservas: https://www.eventbrite.es \n\n\nWeb \n\nPrograma
URL:https://www.soyecoturista.com/asociacion/event/vii-festival-ecoturismo/2026-05-16/
LOCATION:Fuentes del Narcea (Cangas del Narcea\, Degaña e Íbias)\, Fuentes del Narcea\, España
CATEGORIES:Ecoturistas
ATTACH;FMTTYPE=image/png:https://www.soyecoturista.com/asociacion/wp-content/uploads/2026/04/7o-Festival-de-Ecoturismo-en-Peligro-de-Extincion.png
END:VEVENT
BEGIN:VEVENT
DTSTART;VALUE=DATE:20260522
DTEND;VALUE=DATE:20260525
DTSTAMP:20260423T124652
CREATED:20260421T114515Z
LAST-MODIFIED:20260421T114515Z
UID:10001856-1779408000-1779667199@www.soyecoturista.com
SUMMARY:I Maratón Fotográfico | Luces de la Dehesa - Campana de Oropesa
DESCRIPTION:Fecha: Del 22/05/2026 al 24/05/2026 \n\n\nDiversos enclaves de La Campana de Oropesa – Oropesa\, Toledo\, Castilla-La Mancha (Red Natura 2000) \n\n\nEl I Maratón Fotográfico “Luces de la Dehesa” es una experiencia abierta y gratuita que convierte La Campana de Oropesa en epicentro de la fotografía de naturaleza durante tres días. Organizado por la Diputación de Toledo en el marco del Plan de Sostenibilidad Turística de la comarca\, nace con el objetivo de posicionar este territorio —donde más del 60% de su superficie pertenece a la Red Natura 2000— como uno de los destinos de referencia en España para la fotografía de fauna\, paisaje y dehesa. Sin necesidad de equipo avanzado\, el evento está dirigido tanto a fotógrafos aficionados como profesionales. \nEl programa incluye fotografía desde hides fotográficos\, salidas en 4×4 por la comarca\, ponencias de profesionales del sector\, y un taller de iniciación a la astrofotografía. El concurso se divide en tres categorías: Luces de la Dehesa (la luz como elemento esencial)\, Habitantes de la Dehesa (fauna\, flora y relación con el ser humano) y Color Hunting (series cromáticas). El jurado está integrado por Mario Suárez (fotógrafo y embajador Canon)\, José Benito Ruiz (presidente de AEFONA) y Naia Pascual (embajadora OM System). \nEl evento incorpora además un componente de conservación: los participantes podrán conocer y apoyar voluntariamente el programa de reintroducción del halcón peregrino en el valle del Tajo\, impulsado por la Fundación Aquila. \nMás información \n\n\nWeb \n\nInscripciones\n\n 
URL:https://www.soyecoturista.com/asociacion/event/maraton-fotografico-luces-dehesa/
LOCATION:Diversos enclaves de La Campana de Oropesa – Oropesa\, Toledo\, Castilla-La Mancha\, Diversos enclaves de La Campana de Oropesa – Oropesa\, Toledo\, Castilla-La Mancha
CATEGORIES:Ecoturistas
ATTACH;FMTTYPE=image/jpeg:https://www.soyecoturista.com/asociacion/wp-content/uploads/2026/04/PROGRAMA_LUCES_DE_LA_DEHESA-scaled-1.jpg
END:VEVENT
BEGIN:VEVENT
DTSTART;VALUE=DATE:20260522
DTEND;VALUE=DATE:20260525
DTSTAMP:20260423T124652
CREATED:20260422T114445Z
LAST-MODIFIED:20260422T114445Z
UID:10001857-1779408000-1779667199@www.soyecoturista.com
SUMMARY:Feria NaturTajo 2026 | Feria de Turismo de Observación de Naturaleza del Sistema Ibérico Sur
DESCRIPTION:Fecha: Del 22/05/2026 al 24/05/2026 \n\n\nCentro de Visitantes Dehesa de Corduente – Corduente\, Guadalajara\, Castilla-La Mancha (Parque Natural del Alto Tajo) \n\n\nNaturTajo es la feria de referencia del turismo de observación de naturaleza en el Sistema Ibérico Sur\, un territorio de enorme valor ecológico que incluye espacios declarados Parque Natural y Geoparque UNESCO\, y cuyo estado de conservación lo convierte en uno de los mejores escenarios de España para el turismo de naturaleza. En su edición 2026\, la feria regresa al Centro de Visitantes Dehesa de Corduente\, en el corazón del Parque Natural del Alto Tajo\, durante tres días de mayo. \nEl evento reúne a operadores turísticos\, guías\, agencias de viajes y empresas especializadas con el público general en un espacio de encuentro\, divulgación y negocio en torno al turismo de observación de fauna\, flora\, geología y astronomía. Su filosofía es clara: el turismo de naturaleza debe contribuir activamente a la conservación del entorno y generar beneficios reales para la población local\, convirtiéndose en motor económico para territorios rurales con gran riqueza natural pero escasa proyección turística. \nNaturTajo es también una oportunidad para conocer de primera mano los recursos naturales del Sistema Ibérico Sur y conectar con los actores que están construyendo un modelo de turismo sostenible\, responsable y con arraigo territorial en uno de los rincones más auténticos de la España interior. \nMás información \n\n\nWeb \n\n\n 
URL:https://www.soyecoturista.com/asociacion/event/feria-naturtajo/
LOCATION:Centro de Visitantes Dehesa de Corduente – Corduente\, Guadalajara\, Castilla-La Mancha\, Centro de Visitantes Dehesa de Corduente – Corduente\, Guadalajara\, Castilla-La Mancha
CATEGORIES:Ecoturistas
ATTACH;FMTTYPE=image/png:https://www.soyecoturista.com/asociacion/wp-content/uploads/2026/04/Sin-titulo.png
END:VEVENT
BEGIN:VEVENT
DTSTART;TZID=Europe/Madrid:20260523T080000
DTEND;TZID=Europe/Madrid:20260523T220000
DTSTAMP:20260423T124652
CREATED:20260414T103736Z
LAST-MODIFIED:20260414T103736Z
UID:10001852-1779523200-1779573600@www.soyecoturista.com
SUMMARY:VII Festival de Ecoturismo en Peligro de Extinción | Fuentes del Narcea
DESCRIPTION:Fechas:  \n\nFin de semana 1: Sábado 9 y domingo 10 de mayo · 11:00 a 21:00 h\nFin de semana 2: Sábado 16 y domingo 17 de mayo · 08:00 a 19:00 h\nFin de semana 3: Sábado 23 de mayo · 11:00 a 20:00 h\n\nUbicación: \n\n\nDiversos enclaves de Cangas del Narcea y Degaña – Asturias (Parque Natural de Fuentes del Narcea\, Ibias y Degaña · Reserva de la Biosfera de Muniellos) \nCon sede principal en el Centro de Interpretación de Muniellos (Obacho) \n\n\nEl 7º Festival de Ecoturismo en Peligro de Extinción vuelve a Fuentes del Narcea para celebrar por todo lo alto el 25º aniversario de Muniellos como Reserva de la Biosfera\, uno de los espacios naturales y rurales mejor conservados y más singulares de Asturias. Bajo el lema Ye de Casa\, el festival reivindica el ecoturismo auténtico\, el de mancharse las botas de barro\, recuperar los sabores de la infancia y adentrarse en un territorio de osos\, abejas\, lobos\, artesanos y bosques infinitos. \nA lo largo de tres fines de semana de mayo\, el programa despliega más de 25 experiencias repartidas por toda la comarca: talleres de apicultura en cortines tradicionales\, rutas de avistamiento del oso pardo\, paseos por bosques mágicos\, visitas a bodegas del Vino de Cangas\, talleres de elaboración de pan y morcillas\, rutas por pueblos olvidados en 4×4\, cuentos y cantares\, artesanía y mucho más. Todo ello con el Mercao Natural y Artesano como eje central\, gratuito y abierto a todos. \nEl festival arranca el 9 y 10 de mayo con el acto oficial de celebración del aniversario de Muniellos y una programación cargada de naturaleza\, gastronomía y cultura popular. \nEl 16 y 17 de mayo el foco se desplaza hacia la fauna\, los bosques y los oficios tradicionales. \nEl 23 de mayo cierra el festival con una nueva edición del Mercao Natural y el mítico Concilio de las Bruxas de Muniellos. Actividades para todos los públicos\, con opciones gratuitas y de pago\, pensadas tanto para residentes como para visitantes con alma ecoturista. \nMás información\n\n\nReservas: https://www.eventbrite.es \n\n\nWeb \n\nPrograma
URL:https://www.soyecoturista.com/asociacion/event/vii-festival-ecoturismo/2026-05-23/
LOCATION:Fuentes del Narcea (Cangas del Narcea\, Degaña e Íbias)\, Fuentes del Narcea\, España
CATEGORIES:Ecoturistas
ATTACH;FMTTYPE=image/png:https://www.soyecoturista.com/asociacion/wp-content/uploads/2026/04/7o-Festival-de-Ecoturismo-en-Peligro-de-Extincion.png
END:VEVENT
END:VCALENDAR